BEGIN:VCALENDAR
VERSION:2.0
PRODID:-//Saulteau First Nations - ECPv6.15.20//NONSGML v1.0//EN
CALSCALE:GREGORIAN
METHOD:PUBLISH
X-WR-CALNAME:Saulteau First Nations
X-ORIGINAL-URL:https://www.saulteau.com
X-WR-CALDESC:Events for Saulteau First Nations
REFRESH-INTERVAL;VALUE=DURATION:PT1H
X-Robots-Tag:noindex
X-PUBLISHED-TTL:PT1H
BEGIN:VTIMEZONE
TZID:America/Edmonton
BEGIN:DAYLIGHT
TZOFFSETFROM:-0700
TZOFFSETTO:-0600
TZNAME:MDT
DTSTART:20220313T090000
END:DAYLIGHT
BEGIN:STANDARD
TZOFFSETFROM:-0600
TZOFFSETTO:-0700
TZNAME:MST
DTSTART:20221106T080000
END:STANDARD
BEGIN:DAYLIGHT
TZOFFSETFROM:-0700
TZOFFSETTO:-0600
TZNAME:MDT
DTSTART:20230312T090000
END:DAYLIGHT
BEGIN:STANDARD
TZOFFSETFROM:-0600
TZOFFSETTO:-0700
TZNAME:MST
DTSTART:20231105T080000
END:STANDARD
BEGIN:DAYLIGHT
TZOFFSETFROM:-0700
TZOFFSETTO:-0600
TZNAME:MDT
DTSTART:20240310T090000
END:DAYLIGHT
BEGIN:STANDARD
TZOFFSETFROM:-0600
TZOFFSETTO:-0700
TZNAME:MST
DTSTART:20241103T080000
END:STANDARD
BEGIN:DAYLIGHT
TZOFFSETFROM:-0700
TZOFFSETTO:-0600
TZNAME:MDT
DTSTART:20250309T090000
END:DAYLIGHT
BEGIN:STANDARD
TZOFFSETFROM:-0600
TZOFFSETTO:-0700
TZNAME:MST
DTSTART:20251102T080000
END:STANDARD
END:VTIMEZONE
BEGIN:VEVENT
DTSTART;TZID=America/Edmonton:20240516T170000
DTEND;TZID=America/Edmonton:20240516T190000
DTSTAMP:20260422T154321
CREATED:20240509T220659Z
LAST-MODIFIED:20240516T195634Z
UID:10000219-1715878800-1715886000@www.saulteau.com
SUMMARY:Moosehide Campaign Day - Event Canceled
DESCRIPTION:THIS EVENT HAS BEEN CANCELED DUE TO WEATHER \nPlease join us together in ceremony\, drumming & walking to end gender-based violence. \nWalk from Band Hall down to Fire Lake with BBQ to follow. \nPlease bring a blanket to sit\, limited picnic tables available. \n 
URL:https://www.saulteau.com/event/moosehide-campaign-day/
CATEGORIES:Community
END:VEVENT
BEGIN:VEVENT
DTSTART;TZID=America/Edmonton:20240513T113000
DTEND;TZID=America/Edmonton:20240513T153000
DTSTAMP:20260422T154321
CREATED:20240502T221059Z
LAST-MODIFIED:20240502T221059Z
UID:10000202-1715599800-1715614200@www.saulteau.com
SUMMARY:CRA and Service Canada Visit to SFN
DESCRIPTION:Join us to find out more about the benefits\, credits\, pensions\, programs\, and services you may be entitled to! \nCanada Revenue Agency (CRA)\n• Tax Slip information (T4\, T5007\, T4A -Pension\, T4A- OAS and more)\n• Notice of Assessments (NOAs) and Assistance with CRA correspondence\n• Benefits and Credits information: Disability Tax Credit (DTC)\, Canada Child Benefit\n(CCB)\, GST/HST credit\, Canada Worker’s Benefit (CWB)\n• Account updates (address\, contact number\, etc.)\nService Canada\n• NEW Canadian Dental Care Plan - Information and Application/Attestation\n• Pension information on Old Age Security and Canada Pension Plan\n• Get a Social Insurance Number (birth certificate in most cases will be required)\n• Receive an access code to sign up for online My Service Canada\n• General Government of Canada information \n* Please bring any ID you have as what is required will depend on the services accessed
URL:https://www.saulteau.com/event/cra-and-service-canada-visit-to-sfn/
LOCATION:SFN Gymnasium\, 1717 Boucher Lake Rd\, Moberly Lake\, BC\, V0C 1X0\, Canada
CATEGORIES:Community
END:VEVENT
BEGIN:VEVENT
DTSTART;TZID=America/Edmonton:20240508T180000
DTEND;TZID=America/Edmonton:20240508T180000
DTSTAMP:20260422T154321
CREATED:20240507T202825Z
LAST-MODIFIED:20240507T202918Z
UID:10000216-1715191200-1715191200@www.saulteau.com
SUMMARY:TREP Invasive Species Presentation
DESCRIPTION:
URL:https://www.saulteau.com/event/trep-invasive-species-presentation/
LOCATION:SFN Gymnasium\, 1717 Boucher Lake Rd\, Moberly Lake\, BC\, V0C 1X0\, Canada
CATEGORIES:Community
END:VEVENT
BEGIN:VEVENT
DTSTART;TZID=America/Edmonton:20230628T000000
DTEND;TZID=America/Edmonton:20230628T235959
DTSTAMP:20260422T154321
CREATED:20231023T065507Z
LAST-MODIFIED:20231023T065507Z
UID:10000201-1687910400-1687996799@www.saulteau.com
SUMMARY:TREP Fire Smart Awareness
DESCRIPTION:
URL:https://www.saulteau.com/event/trep-fire-smart-awareness/
LOCATION:Saulteau First Nations Band Office\, 1717 Boucher Lake Rd\, Moberly Lake\, BC\, V0C 1X0\, Canada
CATEGORIES:Community
END:VEVENT
BEGIN:VEVENT
DTSTART;TZID=America/Edmonton:20230627T000000
DTEND;TZID=America/Edmonton:20230627T235959
DTSTAMP:20260422T154321
CREATED:20231023T065436Z
LAST-MODIFIED:20231023T065436Z
UID:10000200-1687824000-1687910399@www.saulteau.com
SUMMARY:Council Ceremony
DESCRIPTION:
URL:https://www.saulteau.com/event/council-ceremony/
LOCATION:Saulteau First Nations Band Office\, 1717 Boucher Lake Rd\, Moberly Lake\, BC\, V0C 1X0\, Canada
CATEGORIES:Community
END:VEVENT
BEGIN:VEVENT
DTSTART;TZID=America/Edmonton:20230626T000000
DTEND;TZID=America/Edmonton:20230626T235959
DTSTAMP:20260422T154321
CREATED:20231023T065400Z
LAST-MODIFIED:20231023T065400Z
UID:10000199-1687737600-1687823999@www.saulteau.com
SUMMARY:Service Canada Workshop
DESCRIPTION:
URL:https://www.saulteau.com/event/service-canada-workshop/
LOCATION:Saulteau First Nations Band Office\, 1717 Boucher Lake Rd\, Moberly Lake\, BC\, V0C 1X0\, Canada
CATEGORIES:Community
END:VEVENT
BEGIN:VEVENT
DTSTART;TZID=America/Edmonton:20230624T000000
DTEND;TZID=America/Edmonton:20230624T235959
DTSTAMP:20260422T154321
CREATED:20231023T065331Z
LAST-MODIFIED:20231023T065331Z
UID:10000198-1687564800-1687651199@www.saulteau.com
SUMMARY:Final Chief Voting
DESCRIPTION:
URL:https://www.saulteau.com/event/final-chief-voting/
LOCATION:Saulteau First Nations Band Office\, 1717 Boucher Lake Rd\, Moberly Lake\, BC\, V0C 1X0\, Canada
CATEGORIES:Community
END:VEVENT
BEGIN:VEVENT
DTSTART;TZID=America/Edmonton:20230622T000000
DTEND;TZID=America/Edmonton:20230622T235959
DTSTAMP:20260422T154321
CREATED:20231023T065303Z
LAST-MODIFIED:20231023T065303Z
UID:10000197-1687392000-1687478399@www.saulteau.com
SUMMARY:Advance Chief Voting
DESCRIPTION:
URL:https://www.saulteau.com/event/advance-chief-voting/
LOCATION:Saulteau First Nations Band Office\, 1717 Boucher Lake Rd\, Moberly Lake\, BC\, V0C 1X0\, Canada
CATEGORIES:Community
END:VEVENT
BEGIN:VEVENT
DTSTART;TZID=America/Edmonton:20230617T000000
DTEND;TZID=America/Edmonton:20230617T235959
DTSTAMP:20260422T154321
CREATED:20231023T065210Z
LAST-MODIFIED:20231023T065214Z
UID:10000196-1686960000-1687046399@www.saulteau.com
SUMMARY:Chief Candidate Forum
DESCRIPTION:
URL:https://www.saulteau.com/event/chief-candidate-forum/
LOCATION:Saulteau First Nations Band Office\, 1717 Boucher Lake Rd\, Moberly Lake\, BC\, V0C 1X0\, Canada
CATEGORIES:Community
END:VEVENT
BEGIN:VEVENT
DTSTART;TZID=America/Edmonton:20230615T000000
DTEND;TZID=America/Edmonton:20230615T235959
DTSTAMP:20260422T154321
CREATED:20231023T065134Z
LAST-MODIFIED:20231023T065134Z
UID:10000195-1686787200-1686873599@www.saulteau.com
SUMMARY:Chief Nomination
DESCRIPTION:
URL:https://www.saulteau.com/event/chief-nomination/
LOCATION:Saulteau First Nations Band Office\, 1717 Boucher Lake Rd\, Moberly Lake\, BC\, V0C 1X0\, Canada
CATEGORIES:Community
END:VEVENT
BEGIN:VEVENT
DTSTART;TZID=America/Edmonton:20230614T000000
DTEND;TZID=America/Edmonton:20230614T235959
DTSTAMP:20260422T154321
CREATED:20231023T065103Z
LAST-MODIFIED:20231023T070021Z
UID:10000194-1686700800-1686787199@www.saulteau.com
SUMMARY:Final Council Voting
DESCRIPTION:
URL:https://www.saulteau.com/event/final-council-voting/
LOCATION:Saulteau First Nations Band Office\, 1717 Boucher Lake Rd\, Moberly Lake\, BC\, V0C 1X0\, Canada
CATEGORIES:Community
END:VEVENT
BEGIN:VEVENT
DTSTART;TZID=America/Edmonton:20230612T000000
DTEND;TZID=America/Edmonton:20230612T235959
DTSTAMP:20260422T154321
CREATED:20231023T064949Z
LAST-MODIFIED:20231023T065029Z
UID:10000193-1686528000-1686614399@www.saulteau.com
SUMMARY:Advance Voting
DESCRIPTION:
URL:https://www.saulteau.com/event/advance-voting/
LOCATION:Saulteau First Nations Band Office\, 1717 Boucher Lake Rd\, Moberly Lake\, BC\, V0C 1X0\, Canada
CATEGORIES:Community
END:VEVENT
END:VCALENDAR