BEGIN:VCALENDAR
VERSION:2.0
PRODID:-//Saulteau First Nations - ECPv6.15.20//NONSGML v1.0//EN
CALSCALE:GREGORIAN
METHOD:PUBLISH
X-ORIGINAL-URL:https://www.saulteau.com
X-WR-CALDESC:Events for Saulteau First Nations
REFRESH-INTERVAL;VALUE=DURATION:PT1H
X-Robots-Tag:noindex
X-PUBLISHED-TTL:PT1H
BEGIN:VTIMEZONE
TZID:America/Edmonton
BEGIN:DAYLIGHT
TZOFFSETFROM:-0700
TZOFFSETTO:-0600
TZNAME:MDT
DTSTART:20230312T090000
END:DAYLIGHT
BEGIN:STANDARD
TZOFFSETFROM:-0600
TZOFFSETTO:-0700
TZNAME:MST
DTSTART:20231105T080000
END:STANDARD
BEGIN:DAYLIGHT
TZOFFSETFROM:-0700
TZOFFSETTO:-0600
TZNAME:MDT
DTSTART:20240310T090000
END:DAYLIGHT
BEGIN:STANDARD
TZOFFSETFROM:-0600
TZOFFSETTO:-0700
TZNAME:MST
DTSTART:20241103T080000
END:STANDARD
BEGIN:DAYLIGHT
TZOFFSETFROM:-0700
TZOFFSETTO:-0600
TZNAME:MDT
DTSTART:20250309T090000
END:DAYLIGHT
BEGIN:STANDARD
TZOFFSETFROM:-0600
TZOFFSETTO:-0700
TZNAME:MST
DTSTART:20251102T080000
END:STANDARD
END:VTIMEZONE
BEGIN:VEVENT
DTSTART;TZID=America/Edmonton:20241106T110000
DTEND;TZID=America/Edmonton:20241106T150000
DTSTAMP:20260423T214514
CREATED:20241104T213704Z
LAST-MODIFIED:20241104T213704Z
UID:10001244-1730890800-1730905200@www.saulteau.com
SUMMARY:Sausage Making Class
DESCRIPTION:Learn how to make sausages - Wednesday\, November 06/2024 in the SFN Band Hall Kitchen from 11:00 AM - 3:00 PM. \nLunch is provided. \nRegister with: cgauthier@saulteau.com
URL:https://www.saulteau.com/event/sausage-making-class/
LOCATION:SFN Band Hall Kitchen
CATEGORIES:Cultural Learning,Health Centre
END:VEVENT
BEGIN:VEVENT
DTSTART;TZID=America/Edmonton:20241105T120000
DTEND;TZID=America/Edmonton:20241105T133000
DTSTAMP:20260423T214514
CREATED:20241016T182030Z
LAST-MODIFIED:20241105T155719Z
UID:10000693-1730808000-1730813400@www.saulteau.com
SUMMARY:Elders' Lunch and Fundraising Meeting
DESCRIPTION:Please note the location change - this event is now being hosted in the Culture Centre Elder's Lounge! \nSee you for lunch! \n 
URL:https://www.saulteau.com/event/elders-lunch-and-fundraising-meeting/
LOCATION:Saulteau First Nations Cultural Centre\, 1706 Boucher Lake Rd.
CATEGORIES:Health Centre
ORGANIZER;CN="Chelsea Gauthier":MAILTO:cgauthier@saulteau.com
END:VEVENT
BEGIN:VEVENT
DTSTART;TZID=America/Edmonton:20241024T080000
DTEND;TZID=America/Edmonton:20241024T170000
DTSTAMP:20260423T214514
CREATED:20241021T201030Z
LAST-MODIFIED:20241021T201030Z
UID:10000701-1729756800-1729789200@www.saulteau.com
SUMMARY:Drea's Diabetic Foot Care
DESCRIPTION:
URL:https://www.saulteau.com/event/dreas-diabetic-foot-care/
LOCATION:SFN Health Centre\, Canada
CATEGORIES:Health Centre
END:VEVENT
BEGIN:VEVENT
DTSTART;TZID=America/Edmonton:20240926T100000
DTEND;TZID=America/Edmonton:20240926T150000
DTSTAMP:20260423T214514
CREATED:20240925T202738Z
LAST-MODIFIED:20240925T202738Z
UID:10000672-1727344800-1727362800@www.saulteau.com
SUMMARY:SFN Health Fair
DESCRIPTION:
URL:https://www.saulteau.com/event/sfn-health-fair/
LOCATION:SFN Band Hall Gym
CATEGORIES:Health Centre
END:VEVENT
BEGIN:VEVENT
DTSTART;TZID=America/Edmonton:20240925T170000
DTEND;TZID=America/Edmonton:20240925T170000
DTSTAMP:20260423T214514
CREATED:20240828T223046Z
LAST-MODIFIED:20240828T223046Z
UID:10000639-1727283600-1727283600@www.saulteau.com
SUMMARY:International Overdose Awareness Day Gathering
DESCRIPTION:
URL:https://www.saulteau.com/event/international-overdose-awareness-day-gathering/
LOCATION:Dunne Za Lodge
CATEGORIES:Health Centre
END:VEVENT
BEGIN:VEVENT
DTSTART;TZID=America/Edmonton:20240917T100000
DTEND;TZID=America/Edmonton:20240917T170000
DTSTAMP:20260423T214514
CREATED:20240828T203824Z
LAST-MODIFIED:20240828T203824Z
UID:10000637-1726567200-1726592400@www.saulteau.com
SUMMARY:HHH - Kidney Health
DESCRIPTION:
URL:https://www.saulteau.com/event/hhh-kidney-health/
LOCATION:New Beginnings House
CATEGORIES:Health Centre
ORGANIZER;CN="Heather Lirette":MAILTO:hlirette@saulteau.com
END:VEVENT
BEGIN:VEVENT
DTSTART;TZID=America/Edmonton:20240905T163000
DTEND;TZID=America/Edmonton:20240905T200000
DTSTAMP:20260423T214514
CREATED:20240830T004258Z
LAST-MODIFIED:20240830T004258Z
UID:10000643-1725553800-1725566400@www.saulteau.com
SUMMARY:Learn to Can Pickles!
DESCRIPTION:
URL:https://www.saulteau.com/event/learn-to-can-pickles/
LOCATION:New Beginnings House
CATEGORIES:Health Centre
ORGANIZER;CN="Chelsea Gauthier":MAILTO:cgauthier@saulteau.com
END:VEVENT
BEGIN:VEVENT
DTSTART;TZID=America/Edmonton:20240904T160000
DTEND;TZID=America/Edmonton:20240904T203000
DTSTAMP:20260423T214514
CREATED:20240830T004019Z
LAST-MODIFIED:20240830T004019Z
UID:10000642-1725465600-1725481800@www.saulteau.com
SUMMARY:Haskap Berry Picking
DESCRIPTION:
URL:https://www.saulteau.com/event/haskap-berry-picking/
CATEGORIES:Health Centre
ORGANIZER;CN="Chelsea Gauthier":MAILTO:cgauthier@saulteau.com
END:VEVENT
BEGIN:VEVENT
DTSTART;TZID=America/Edmonton:20240829T080000
DTEND;TZID=America/Edmonton:20240829T170000
DTSTAMP:20260423T214514
CREATED:20240723T173938Z
LAST-MODIFIED:20240723T173938Z
UID:10000620-1724918400-1724950800@www.saulteau.com
SUMMARY:Massage Therapy with NuBalance RMT
DESCRIPTION:
URL:https://www.saulteau.com/event/massage-therapy-with-nubalance-rmt-3/
LOCATION:New Beginnings House
CATEGORIES:Health Centre
END:VEVENT
BEGIN:VEVENT
DTSTART;TZID=America/Edmonton:20240829T080000
DTEND;TZID=America/Edmonton:20240829T170000
DTSTAMP:20260423T214514
CREATED:20240723T173534Z
LAST-MODIFIED:20240723T173534Z
UID:10000617-1724918400-1724950800@www.saulteau.com
SUMMARY:Diabetic Foot Care with Drea
DESCRIPTION:
URL:https://www.saulteau.com/event/diabetic-foot-care-with-drea-2/
LOCATION:SFN Health Centre\, Canada
CATEGORIES:Health Centre
END:VEVENT
BEGIN:VEVENT
DTSTART;TZID=America/Edmonton:20240822T083000
DTEND;TZID=America/Edmonton:20240822T130000
DTSTAMP:20260423T214514
CREATED:20240813T185340Z
LAST-MODIFIED:20240813T185421Z
UID:10000630-1724315400-1724331600@www.saulteau.com
SUMMARY:Healing in Unity Sessions - With David Daniels
DESCRIPTION:
URL:https://www.saulteau.com/event/healing-in-unity-sessions-with-david-daniels-2/
LOCATION:SFN Health Centre\, Canada
CATEGORIES:Health Centre
END:VEVENT
BEGIN:VEVENT
DTSTART;TZID=America/Edmonton:20240822T080000
DTEND;TZID=America/Edmonton:20240822T170000
DTSTAMP:20260423T214514
CREATED:20240723T174146Z
LAST-MODIFIED:20240723T174146Z
UID:10000621-1724313600-1724346000@www.saulteau.com
SUMMARY:HeartCore Sound Healing
DESCRIPTION:
URL:https://www.saulteau.com/event/heartcore-sound-healing/
LOCATION:SFN Health Centre\, Canada
CATEGORIES:Health Centre
END:VEVENT
BEGIN:VEVENT
DTSTART;TZID=America/Edmonton:20240821T083000
DTEND;TZID=America/Edmonton:20240821T163000
DTSTAMP:20260423T214514
CREATED:20240813T185308Z
LAST-MODIFIED:20240813T185308Z
UID:10000629-1724229000-1724257800@www.saulteau.com
SUMMARY:Healing in Unity Sessions - With David Daniels
DESCRIPTION:
URL:https://www.saulteau.com/event/healing-in-unity-sessions-with-david-daniels/
LOCATION:SFN Health Centre\, Canada
CATEGORIES:Health Centre
END:VEVENT
BEGIN:VEVENT
DTSTART;TZID=America/Edmonton:20240815T080000
DTEND;TZID=America/Edmonton:20240815T170000
DTSTAMP:20260423T214514
CREATED:20240723T173906Z
LAST-MODIFIED:20240723T173906Z
UID:10000619-1723708800-1723741200@www.saulteau.com
SUMMARY:Massage Therapy with NuBalance RMT
DESCRIPTION:
URL:https://www.saulteau.com/event/massage-therapy-with-nubalance-rmt-2/
LOCATION:New Beginnings House
CATEGORIES:Health Centre
END:VEVENT
BEGIN:VEVENT
DTSTART;TZID=America/Edmonton:20240813T100000
DTEND;TZID=America/Edmonton:20240813T110000
DTSTAMP:20260423T214514
CREATED:20240722T210437Z
LAST-MODIFIED:20240722T210532Z
UID:10000614-1723543200-1723546800@www.saulteau.com
SUMMARY:Heather's Health Hour: Car Seat Safety for Babies and Children
DESCRIPTION:Heather's Health Hour: Car Seat Safety for Babies and Children
URL:https://www.saulteau.com/event/heathers-health-hour-car-seat-safety-for-babies-and-children/
LOCATION:New Beginnings House
CATEGORIES:Health Centre
ORGANIZER;CN="Heather Lirette":MAILTO:hlirette@saulteau.com
END:VEVENT
BEGIN:VEVENT
DTSTART;TZID=America/Edmonton:20240808T080000
DTEND;TZID=America/Edmonton:20240808T170000
DTSTAMP:20260423T214514
CREATED:20240723T173412Z
LAST-MODIFIED:20240723T173412Z
UID:10000616-1723104000-1723136400@www.saulteau.com
SUMMARY:Hypnotherapy With Kane Norris
DESCRIPTION:
URL:https://www.saulteau.com/event/hypnotherapy-with-kane-norris/
LOCATION:SFN Health Centre\, Canada
CATEGORIES:Health Centre
END:VEVENT
BEGIN:VEVENT
DTSTART;TZID=America/Edmonton:20240806T100000
DTEND;TZID=America/Edmonton:20240806T110000
DTSTAMP:20260423T214514
CREATED:20240723T180927Z
LAST-MODIFIED:20240723T180927Z
UID:10000622-1722938400-1722942000@www.saulteau.com
SUMMARY:Heather's Health Hour: Heart Health
DESCRIPTION:
URL:https://www.saulteau.com/event/heathers-health-hour-heart-health/
LOCATION:New Beginnings House
CATEGORIES:Health Centre
ORGANIZER;CN="Heather Lirette":MAILTO:hlirette@saulteau.com
END:VEVENT
BEGIN:VEVENT
DTSTART;TZID=America/Edmonton:20240801T080000
DTEND;TZID=America/Edmonton:20240801T170000
DTSTAMP:20260423T214514
CREATED:20240723T173826Z
LAST-MODIFIED:20240731T180424Z
UID:10000618-1722499200-1722531600@www.saulteau.com
SUMMARY:Canceled -Massage Therapy with NuBalance RMT
DESCRIPTION:Due to the SFN Office Closure\, the first session is canceled.
URL:https://www.saulteau.com/event/massage-therapy-with-nubalance-rmt/
LOCATION:New Beginnings House
CATEGORIES:Health Centre
END:VEVENT
BEGIN:VEVENT
DTSTART;TZID=America/Edmonton:20240729T100000
DTEND;TZID=America/Edmonton:20240729T170000
DTSTAMP:20260423T214514
CREATED:20240722T202900Z
LAST-MODIFIED:20240722T202900Z
UID:10000612-1722247200-1722272400@www.saulteau.com
SUMMARY:SFN Mental Health Committee Meeting
DESCRIPTION:
URL:https://www.saulteau.com/event/sfn-mental-health-committee-meeting-2/
LOCATION:New Beginnings House
CATEGORIES:Health Centre
END:VEVENT
BEGIN:VEVENT
DTSTART;TZID=America/Edmonton:20240709T080000
DTEND;TZID=America/Edmonton:20240711T170000
DTSTAMP:20260423T214514
CREATED:20240611T144826Z
LAST-MODIFIED:20240701T154508Z
UID:10000241-1720512000-1720717200@www.saulteau.com
SUMMARY:SFN Wellness Days with Awaken The Warrior
DESCRIPTION:
URL:https://www.saulteau.com/event/sfn-wellness-days-with-awaken-the-warrior/
LOCATION:SFN Health Centre\, Canada
CATEGORIES:Health Centre
END:VEVENT
BEGIN:VEVENT
DTSTART;TZID=America/Edmonton:20240702T100000
DTEND;TZID=America/Edmonton:20240702T120000
DTSTAMP:20260423T214514
CREATED:20240618T192944Z
LAST-MODIFIED:20240618T192944Z
UID:10000610-1719914400-1719921600@www.saulteau.com
SUMMARY:Heather's Health Hour: Fall Prevention for Elders
DESCRIPTION:
URL:https://www.saulteau.com/event/heathers-health-hour-fall-prevention-for-elders/
LOCATION:New Beginnings House
CATEGORIES:Health Centre
ORGANIZER;CN="Heather Lirette":MAILTO:hlirette@saulteau.com
END:VEVENT
BEGIN:VEVENT
DTSTART;TZID=America/Edmonton:20240627T080000
DTEND;TZID=America/Edmonton:20240627T163000
DTSTAMP:20260423T214514
CREATED:20240603T184255Z
LAST-MODIFIED:20240603T184255Z
UID:10000234-1719475200-1719505800@www.saulteau.com
SUMMARY:Diabetic Foot Care with Drea
DESCRIPTION:
URL:https://www.saulteau.com/event/diabetic-foot-care-with-drea/
LOCATION:SFN Health Centre\, Canada
CATEGORIES:Health Centre
END:VEVENT
BEGIN:VEVENT
DTSTART;TZID=America/Edmonton:20240620T080000
DTEND;TZID=America/Edmonton:20240620T163000
DTSTAMP:20260423T214514
CREATED:20240603T191447Z
LAST-MODIFIED:20240603T191447Z
UID:10000238-1718870400-1718901000@www.saulteau.com
SUMMARY:Physiotherapy
DESCRIPTION:
URL:https://www.saulteau.com/event/physiotherapy/
LOCATION:SFN Health Centre\, Canada
CATEGORIES:Health Centre
END:VEVENT
BEGIN:VEVENT
DTSTART;TZID=America/Edmonton:20240620T080000
DTEND;TZID=America/Edmonton:20240620T163000
DTSTAMP:20260423T214514
CREATED:20240603T191311Z
LAST-MODIFIED:20240603T191311Z
UID:10000237-1718870400-1718901000@www.saulteau.com
SUMMARY:Massage Therapy
DESCRIPTION:
URL:https://www.saulteau.com/event/massage-therapy-2/
LOCATION:New Beginnings House
CATEGORIES:Health Centre
END:VEVENT
BEGIN:VEVENT
DTSTART;TZID=America/Edmonton:20240610T100000
DTEND;TZID=America/Edmonton:20240610T110000
DTSTAMP:20260423T214514
CREATED:20240528T164423Z
LAST-MODIFIED:20240528T164423Z
UID:10000229-1718013600-1718017200@www.saulteau.com
SUMMARY:Heather's Health Hour: Baby's First Foods
DESCRIPTION:
URL:https://www.saulteau.com/event/heathers-health-hour-babys-first-foods/
LOCATION:SFN Health Centre\, Canada
CATEGORIES:Health Centre
ORGANIZER;CN="Heather Lirette":MAILTO:hlirette@saulteau.com
END:VEVENT
BEGIN:VEVENT
DTSTART;TZID=America/Edmonton:20240607T080000
DTEND;TZID=America/Edmonton:20240607T163000
DTSTAMP:20260423T214514
CREATED:20240603T183735Z
LAST-MODIFIED:20240603T183735Z
UID:10000233-1717747200-1717777800@www.saulteau.com
SUMMARY:Amplifon Hearing Clinic
DESCRIPTION:Book your appointment today! \n 
URL:https://www.saulteau.com/event/amplifon-hearing-clinic/
LOCATION:SFN Health Centre\, Canada
CATEGORIES:Health Centre
END:VEVENT
BEGIN:VEVENT
DTSTART;TZID=America/Edmonton:20240606T080000
DTEND;TZID=America/Edmonton:20240606T163000
DTSTAMP:20260423T214515
CREATED:20240603T191152Z
LAST-MODIFIED:20240603T191152Z
UID:10000236-1717660800-1717691400@www.saulteau.com
SUMMARY:Massage Therapy
DESCRIPTION:
URL:https://www.saulteau.com/event/massage-therapy/
LOCATION:New Beginnings House
CATEGORIES:Health Centre
END:VEVENT
BEGIN:VEVENT
DTSTART;TZID=America/Edmonton:20240606T080000
DTEND;TZID=America/Edmonton:20240606T163000
DTSTAMP:20260423T214515
CREATED:20240603T190651Z
LAST-MODIFIED:20240603T190708Z
UID:10000235-1717660800-1717691400@www.saulteau.com
SUMMARY:HeartCore Sound Healing
DESCRIPTION:Book you session today!
URL:https://www.saulteau.com/event/heartcore-healing/
LOCATION:SFN Health Centre\, Canada
CATEGORIES:Health Centre
END:VEVENT
BEGIN:VEVENT
DTSTART;TZID=America/Edmonton:20240604T100000
DTEND;TZID=America/Edmonton:20240604T110000
DTSTAMP:20260423T214515
CREATED:20240528T165220Z
LAST-MODIFIED:20240528T165220Z
UID:10000230-1717495200-1717498800@www.saulteau.com
SUMMARY:Heather's Health Hour: Birth Control
DESCRIPTION:
URL:https://www.saulteau.com/event/heathers-health-hour-birth-control/
LOCATION:SFN Health Centre\, Canada
CATEGORIES:Health Centre
ORGANIZER;CN="Heather Lirette":MAILTO:hlirette@saulteau.com
END:VEVENT
BEGIN:VEVENT
DTSTART;TZID=America/Edmonton:20240530T080000
DTEND;TZID=America/Edmonton:20240530T163000
DTSTAMP:20260423T214515
CREATED:20240513T215231Z
LAST-MODIFIED:20240513T215517Z
UID:10000222-1717056000-1717086600@www.saulteau.com
SUMMARY:Sprout Acupuncture @SFN Health Centre
DESCRIPTION:Book your Appointment today! 250-788-7280
URL:https://www.saulteau.com/event/sprout-acupuncture-sfn-health-centre/
LOCATION:SFN Health Centre\, Canada
CATEGORIES:Health Centre
END:VEVENT
END:VCALENDAR