BEGIN:VCALENDAR
VERSION:2.0
PRODID:-//Saulteau First Nations - ECPv6.15.20//NONSGML v1.0//EN
CALSCALE:GREGORIAN
METHOD:PUBLISH
X-ORIGINAL-URL:https://www.saulteau.com
X-WR-CALDESC:Events for Saulteau First Nations
REFRESH-INTERVAL;VALUE=DURATION:PT1H
X-Robots-Tag:noindex
X-PUBLISHED-TTL:PT1H
BEGIN:VTIMEZONE
TZID:America/Edmonton
BEGIN:DAYLIGHT
TZOFFSETFROM:-0700
TZOFFSETTO:-0600
TZNAME:MDT
DTSTART:20240310T090000
END:DAYLIGHT
BEGIN:STANDARD
TZOFFSETFROM:-0600
TZOFFSETTO:-0700
TZNAME:MST
DTSTART:20241103T080000
END:STANDARD
BEGIN:DAYLIGHT
TZOFFSETFROM:-0700
TZOFFSETTO:-0600
TZNAME:MDT
DTSTART:20250309T090000
END:DAYLIGHT
BEGIN:STANDARD
TZOFFSETFROM:-0600
TZOFFSETTO:-0700
TZNAME:MST
DTSTART:20251102T080000
END:STANDARD
BEGIN:DAYLIGHT
TZOFFSETFROM:-0700
TZOFFSETTO:-0600
TZNAME:MDT
DTSTART:20260308T090000
END:DAYLIGHT
BEGIN:STANDARD
TZOFFSETFROM:-0600
TZOFFSETTO:-0700
TZNAME:MST
DTSTART:20261101T080000
END:STANDARD
END:VTIMEZONE
BEGIN:VEVENT
DTSTART;TZID=America/Edmonton:20250712T150000
DTEND;TZID=America/Edmonton:20250712T160000
DTSTAMP:20260420T015959
CREATED:20250710T230111Z
LAST-MODIFIED:20250710T230111Z
UID:10002130-1752332400-1752336000@www.saulteau.com
SUMMARY:Adult & Elders Bingo (@Pemmican Grounds) -Pemmican Days 2025
DESCRIPTION:Adult & Elders Bingo (@Pemmican Grounds) -Pemmican Days 2025
URL:https://www.saulteau.com/event/adult-elders-bingo-pemmican-grounds-pemmican-days-2025/
LOCATION:SFN Pemmican Grounds
CATEGORIES:Community,Pemmican Days 2025
END:VEVENT
BEGIN:VEVENT
DTSTART;TZID=America/Edmonton:20250712T140000
DTEND;TZID=America/Edmonton:20250712T150000
DTSTAMP:20260420T015959
CREATED:20250710T225438Z
LAST-MODIFIED:20250710T225438Z
UID:10002129-1752328800-1752332400@www.saulteau.com
SUMMARY:Youth Bingo (13-17) (@Pemmican Grounds) -Pemmican Days 2025
DESCRIPTION:Youth Bingo (13-17) (@Pemmican Grounds) -Pemmican Days 2025
URL:https://www.saulteau.com/event/youth-bingo-13-17-pemmican-grounds-pemmican-days-2025/
LOCATION:SFN Pemmican Grounds
CATEGORIES:Community,Pemmican Days 2025
END:VEVENT
BEGIN:VEVENT
DTSTART;TZID=America/Edmonton:20250712T130000
DTEND;TZID=America/Edmonton:20250712T150000
DTSTAMP:20260420T015959
CREATED:20250710T224933Z
LAST-MODIFIED:20250710T224933Z
UID:10002128-1752325200-1752332400@www.saulteau.com
SUMMARY:Dry Meat Cutting (Youth & Adult) (@Pemmican Grounds) Pemmican Days 2025
DESCRIPTION:Dry Meat Cutting (Youth & Adult) (@Pemmican Grounds) Pemmican Days 2025
URL:https://www.saulteau.com/event/dry-meat-cutting-youth-adult-pemmican-grounds-pemmican-days-2025/
LOCATION:SFN Pemmican
CATEGORIES:Community,Pemmican Days 2025
END:VEVENT
BEGIN:VEVENT
DTSTART;TZID=America/Edmonton:20250712T120000
DTEND;TZID=America/Edmonton:20250712T170000
DTSTAMP:20260420T015959
CREATED:20250710T224509Z
LAST-MODIFIED:20250710T224509Z
UID:10002127-1752321600-1752339600@www.saulteau.com
SUMMARY:Kids Zone Fun (@Pemmican Grounds) Pemmican Days 2025
DESCRIPTION:Kids Zone Fun (@Pemmican Grounds) Pemmican Days 2025
URL:https://www.saulteau.com/event/kids-zone-fun-pemmican-grounds-pemmican-days-2025/
LOCATION:SFN Pemmican Grounds
CATEGORIES:Community,Pemmican Days 2025
END:VEVENT
BEGIN:VEVENT
DTSTART;TZID=America/Edmonton:20250712T110000
DTEND;TZID=America/Edmonton:20250712T140000
DTSTAMP:20260420T015959
CREATED:20250710T223907Z
LAST-MODIFIED:20250710T223907Z
UID:10002126-1752318000-1752328800@www.saulteau.com
SUMMARY:Beading Competition (@Pemmican Grounds) Pemmican Days 2025
DESCRIPTION:Beading Competition (@Pemmican Grounds) Pemmican Days 2025
URL:https://www.saulteau.com/event/beading-competition-pemmican-grounds-pemmican-days-2025/
LOCATION:SFN Pemmican Grounds
CATEGORIES:Community,Pemmican Days 2025
END:VEVENT
BEGIN:VEVENT
DTSTART;TZID=America/Edmonton:20250712T100000
DTEND;TZID=America/Edmonton:20250712T180000
DTSTAMP:20260420T015959
CREATED:20250710T223428Z
LAST-MODIFIED:20250710T223715Z
UID:10002125-1752314400-1752343200@www.saulteau.com
SUMMARY:Competition Events: Horse Shoes\, Pugeesee & Tug of War (Pemmican Grounds) Pemmican Days 2025
DESCRIPTION:Competition Events: Horse Shoes\, Pugeesee & Tug of War (Pemmican Grounds) Pemmican Days 2025
URL:https://www.saulteau.com/event/competition-events-horse-shoes-pugeesee-tug-of-war-pemmican-grounds-pemmican-days-2025/
LOCATION:SFN Pemmican Grounds
CATEGORIES:Community,Pemmican Days 2025
END:VEVENT
BEGIN:VEVENT
DTSTART;TZID=America/Edmonton:20250712T090000
DTEND;TZID=America/Edmonton:20250712T100000
DTSTAMP:20260420T015959
CREATED:20250710T223010Z
LAST-MODIFIED:20250710T223010Z
UID:10002124-1752310800-1752314400@www.saulteau.com
SUMMARY:Bow & Arrow\, Slingshot\, Axe Throw (Pemmican Grounds) Pemmican Days 2025
DESCRIPTION:Bow & Arrow\, Slingshot\, Axe Throw (Women's First) (Pemmican Grounds) Pemmican Days 2025 \n 
URL:https://www.saulteau.com/event/bow-arrow-slingshot-axe-throw-pemmican-grounds-pemmican-days-2025/
LOCATION:SFN Pemmican Grounds
CATEGORIES:Community,Pemmican Days 2025
END:VEVENT
BEGIN:VEVENT
DTSTART;TZID=America/Edmonton:20250712T090000
DTEND;TZID=America/Edmonton:20250712T100000
DTSTAMP:20260420T015959
CREATED:20250710T222652Z
LAST-MODIFIED:20250710T222652Z
UID:10002123-1752310800-1752314400@www.saulteau.com
SUMMARY:Teepee Raising Judging (Pemmican Grounds) Pemmican Grounds 2025
DESCRIPTION:Teepee Raising Judging (Pemmican Grounds) Pemmican Grounds 2025
URL:https://www.saulteau.com/event/teepee-raising-judging-pemmican-grounds-pemmican-grounds-2025/
LOCATION:SFN Pemmican Grounds
CATEGORIES:Community,Pemmican Days 2025
END:VEVENT
BEGIN:VEVENT
DTSTART;TZID=America/Edmonton:20250712T080000
DTEND;TZID=America/Edmonton:20250712T100000
DTSTAMP:20260420T015959
CREATED:20250710T222159Z
LAST-MODIFIED:20250710T222240Z
UID:10002122-1752307200-1752314400@www.saulteau.com
SUMMARY:Pancake Breakfast (Band Hall) Pemmican Days 2025
DESCRIPTION:Pancake Breakfast (Band Hall) Pemmican Days 2025
URL:https://www.saulteau.com/event/pancake-breakfast-band-hall-pemmican-days-2025/
LOCATION:SFN Band Hall
CATEGORIES:Community,Pemmican Days 2025
END:VEVENT
BEGIN:VEVENT
DTSTART;TZID=America/Edmonton:20250711T193000
DTEND;TZID=America/Edmonton:20250711T210000
DTSTAMP:20260420T015959
CREATED:20250710T221904Z
LAST-MODIFIED:20250710T221904Z
UID:10002121-1752262200-1752267600@www.saulteau.com
SUMMARY:Moccassin Race (Pemmican Grounds) Pemmican Days 2025
DESCRIPTION:Moccassin Race (Pemmican Grounds) Pemmican Days 2025
URL:https://www.saulteau.com/event/moccassin-race-pemmican-grounds-pemmican-days-2025/
LOCATION:SFN Pemmican Grounds
CATEGORIES:Community,Pemmican Days 2025
END:VEVENT
BEGIN:VEVENT
DTSTART;TZID=America/Edmonton:20250711T190000
DTEND;TZID=America/Edmonton:20250711T193000
DTSTAMP:20260420T015959
CREATED:20250710T221621Z
LAST-MODIFIED:20250710T221621Z
UID:10002120-1752260400-1752262200@www.saulteau.com
SUMMARY:Honeymoon Race (Pemmican Grounds) Pemmican Days 2025
DESCRIPTION:Honeymoon Race (Pemmican Grounds) Pemmican Days 2025
URL:https://www.saulteau.com/event/honeymoon-race-pemmican-grounds-pemmican-days-2025/
LOCATION:Pemmican Grounds
CATEGORIES:Community,Pemmican Days 2025
END:VEVENT
BEGIN:VEVENT
DTSTART;TZID=America/Edmonton:20250711T180000
DTEND;TZID=America/Edmonton:20250711T190000
DTSTAMP:20260420T015959
CREATED:20250710T221112Z
LAST-MODIFIED:20250710T221112Z
UID:10002119-1752256800-1752260400@www.saulteau.com
SUMMARY:Animal Calls (Pemmican Grounds) Pemmican Days 2025
DESCRIPTION:Animal Calls (Pemmican Grounds) Pemmican Days 2025
URL:https://www.saulteau.com/event/animal-calls-pemmican-grounds-pemmican-days-2025/
LOCATION:SFN Pemmican Grounds
CATEGORIES:Community,Pemmican Days 2025
END:VEVENT
BEGIN:VEVENT
DTSTART;TZID=America/Edmonton:20250711T170000
DTEND;TZID=America/Edmonton:20250711T200000
DTSTAMP:20260420T015959
CREATED:20250710T220847Z
LAST-MODIFIED:20250710T220847Z
UID:10002118-1752253200-1752264000@www.saulteau.com
SUMMARY:Teepee Raising (Pemmican Grounds) Pemmican Days 2025
DESCRIPTION:Teepee Raising (Pemmican Grounds) Pemmican Days 2025
URL:https://www.saulteau.com/event/teepee-raising-pemmican-grounds-pemmican-days-2025/
LOCATION:Pemmican Days
CATEGORIES:Community,Pemmican Days 2025
END:VEVENT
BEGIN:VEVENT
DTSTART;TZID=America/Edmonton:20250711T153000
DTEND;TZID=America/Edmonton:20250711T200000
DTSTAMP:20260420T015959
CREATED:20250710T220643Z
LAST-MODIFIED:20250710T220643Z
UID:10002117-1752247800-1752264000@www.saulteau.com
SUMMARY:Youth (8-17) Bow & Arrow \, Axe Throw\, Slingshot (Pemmican Grounds) Pemmican Grounds
DESCRIPTION:Youth (8-17) Bow & Arrow \, Axe Throw\, Slingshot (Pemmican Grounds) Pemmican Grounds
URL:https://www.saulteau.com/event/youth-8-17-bow-arrow-axe-throw-slingshot-pemmican-grounds-pemmican-grounds/
LOCATION:SFN Pemmican Grounds
CATEGORIES:Community,Pemmican Days 2025
END:VEVENT
BEGIN:VEVENT
DTSTART;TZID=America/Edmonton:20250711T153000
DTEND;TZID=America/Edmonton:20250711T200000
DTSTAMP:20260420T015959
CREATED:20250710T220447Z
LAST-MODIFIED:20250710T220447Z
UID:10002116-1752247800-1752264000@www.saulteau.com
SUMMARY:Pugeesee & Horseshoes (Pemmican Grounds) Pemmican Days 2025
DESCRIPTION:Pugeesee & Horseshoes (Pemmican Grounds) Pemmican Days 2025
URL:https://www.saulteau.com/event/pugeesee-horseshoes-pemmican-grounds-pemmican-days-2025/
LOCATION:SFN Pemmican Grounds
CATEGORIES:Community,Pemmican Days 2025
END:VEVENT
BEGIN:VEVENT
DTSTART;TZID=America/Edmonton:20250711T150000
DTEND;TZID=America/Edmonton:20250711T170000
DTSTAMP:20260420T015959
CREATED:20250710T220237Z
LAST-MODIFIED:20250710T220237Z
UID:10002115-1752246000-1752253200@www.saulteau.com
SUMMARY:Grand Entry & Opening Comments (Pemmican Grounds) Pemmican Days 2025
DESCRIPTION:Grand Entry & Opening Comments (Pemmican Grounds) Pemmican Days 2025
URL:https://www.saulteau.com/event/grand-entry-opening-comments-pemmican-grounds-pemmican-days-2025/
LOCATION:SFN Pemmican Grounds
CATEGORIES:Community,Pemmican Days 2025
END:VEVENT
BEGIN:VEVENT
DTSTART;TZID=America/Edmonton:20250711T140000
DTEND;TZID=America/Edmonton:20250711T150000
DTSTAMP:20260420T015959
CREATED:20250710T220006Z
LAST-MODIFIED:20250710T220006Z
UID:10002114-1752242400-1752246000@www.saulteau.com
SUMMARY:Pemmican Parade (Band Hall) Pemmican Days 2025
DESCRIPTION:Pemmican Parade (Band Hall) Pemmican Days 2025
URL:https://www.saulteau.com/event/pemmican-parade-band-hall-pemmican-days-2025/
LOCATION:SFN Band Hall
CATEGORIES:Community,Pemmican Days 2025
END:VEVENT
BEGIN:VEVENT
DTSTART;TZID=America/Edmonton:20250711T090000
DTEND;TZID=America/Edmonton:20250711T110000
DTSTAMP:20260420T015959
CREATED:20250710T215626Z
LAST-MODIFIED:20250710T215626Z
UID:10002112-1752224400-1752231600@www.saulteau.com
SUMMARY:Final Registration (Band Hall) - Pemmican Days 2025
DESCRIPTION:Final Registration (Band Hall) - CASH ONLY
URL:https://www.saulteau.com/event/final-registration-band-hall-pemmican-days-2025/
LOCATION:SFN Band Hall Gym
CATEGORIES:Community,Pemmican Days 2025
END:VEVENT
BEGIN:VEVENT
DTSTART;TZID=America/Edmonton:20250710T183000
DTEND;TZID=America/Edmonton:20250710T203000
DTSTAMP:20260420T015959
CREATED:20250710T215300Z
LAST-MODIFIED:20250710T215318Z
UID:10002111-1752172200-1752179400@www.saulteau.com
SUMMARY:Community Feast-With Special Guest (Cultural Centre) Pemmican Days 2025
DESCRIPTION:Community Feast - With Special Guest (Cultural Centre)
URL:https://www.saulteau.com/event/community-feast-with-special-guest-cultural-centre-pemmican-days-2025/
LOCATION:SFN Cultural Centre Gym
CATEGORIES:Community,Pemmican Days 2025
END:VEVENT
BEGIN:VEVENT
DTSTART;TZID=America/Edmonton:20250710T163000
DTEND;TZID=America/Edmonton:20250710T183000
DTSTAMP:20260420T015959
CREATED:20250710T214729Z
LAST-MODIFIED:20250710T214954Z
UID:10002110-1752165000-1752172200@www.saulteau.com
SUMMARY:Registration (@SFN Band Hall) Pemmican Days 2025
DESCRIPTION:Registration begins Thursday\, July 10th from 4:30–6:30 PM at the Band Hall\, followed by a Community Feast with a special guest at 6:30 PM at the Cultural Centre. CASH ONLY
URL:https://www.saulteau.com/event/registration-sfn-band-hall/
LOCATION:SFN Band Hall Gym
CATEGORIES:Community,Pemmican Days 2025,Recreation
END:VEVENT
END:VCALENDAR