BEGIN:VCALENDAR
VERSION:2.0
PRODID:-//Saulteau First Nations - ECPv6.15.20//NONSGML v1.0//EN
CALSCALE:GREGORIAN
METHOD:PUBLISH
X-ORIGINAL-URL:https://www.saulteau.com
X-WR-CALDESC:Events for Saulteau First Nations
REFRESH-INTERVAL;VALUE=DURATION:PT1H
X-Robots-Tag:noindex
X-PUBLISHED-TTL:PT1H
BEGIN:VTIMEZONE
TZID:America/Edmonton
BEGIN:DAYLIGHT
TZOFFSETFROM:-0700
TZOFFSETTO:-0600
TZNAME:MDT
DTSTART:20250309T090000
END:DAYLIGHT
BEGIN:STANDARD
TZOFFSETFROM:-0600
TZOFFSETTO:-0700
TZNAME:MST
DTSTART:20251102T080000
END:STANDARD
BEGIN:DAYLIGHT
TZOFFSETFROM:-0700
TZOFFSETTO:-0600
TZNAME:MDT
DTSTART:20260308T090000
END:DAYLIGHT
BEGIN:STANDARD
TZOFFSETFROM:-0600
TZOFFSETTO:-0700
TZNAME:MST
DTSTART:20261101T080000
END:STANDARD
BEGIN:DAYLIGHT
TZOFFSETFROM:-0700
TZOFFSETTO:-0600
TZNAME:MDT
DTSTART:20270314T090000
END:DAYLIGHT
BEGIN:STANDARD
TZOFFSETFROM:-0600
TZOFFSETTO:-0700
TZNAME:MST
DTSTART:20271107T080000
END:STANDARD
END:VTIMEZONE
BEGIN:VEVENT
DTSTART;TZID=America/Edmonton:20260224T090000
DTEND;TZID=America/Edmonton:20260224T120000
DTSTAMP:20260420T164024
CREATED:20260129T200333Z
LAST-MODIFIED:20260129T200333Z
UID:10008590-1771923600-1771934400@www.saulteau.com
SUMMARY:Pemmican Days Committee Meeting
DESCRIPTION:Join us for the Pemmican Days committee meeting on February 24\, 2026 @ 9:00am at the Cultural Centre Gym. \nSerious inquiries only for joining the committee. \nAny questions please email Carlee @ cwestgate@saulteau.com \n 
URL:https://www.saulteau.com/event/pemmican-days-committee-meeting/
LOCATION:SFN Cultural Centre Gym
CATEGORIES:Pemmican Days 2026
ORGANIZER;CN="Carlee Westgate":MAILTO:cwestgate@saulteau.com
END:VEVENT
BEGIN:VEVENT
DTSTART;TZID=America/Edmonton:20260210T090000
DTEND;TZID=America/Edmonton:20260210T120000
DTSTAMP:20260420T164024
CREATED:20260129T200035Z
LAST-MODIFIED:20260202T161617Z
UID:10008589-1770714000-1770724800@www.saulteau.com
SUMMARY:Pemmican Days Suggestion Meeting
DESCRIPTION:Join us for the Pemmican Days suggestion meeting on February 10\, 2026 @ 9:00am at the Cultural Centre. \nIf you cannot make the meeting and would like to make a suggestion - email Carlee @ cwestgate@saulteau.com \n 
URL:https://www.saulteau.com/event/pemmican-days-suggestion-meeting/
LOCATION:Saulteau First Nations Cultural Centre\, 1706 Boucher Lake Rd.
CATEGORIES:Pemmican Days 2026
ORGANIZER;CN="Carlee Westgate":MAILTO:cwestgate@saulteau.com
END:VEVENT
END:VCALENDAR