BEGIN:VCALENDAR
VERSION:2.0
PRODID:-//Saulteau First Nations - ECPv6.15.20//NONSGML v1.0//EN
CALSCALE:GREGORIAN
METHOD:PUBLISH
X-ORIGINAL-URL:https://www.saulteau.com
X-WR-CALDESC:Events for Saulteau First Nations
REFRESH-INTERVAL;VALUE=DURATION:PT1H
X-Robots-Tag:noindex
X-PUBLISHED-TTL:PT1H
BEGIN:VTIMEZONE
TZID:America/Edmonton
BEGIN:DAYLIGHT
TZOFFSETFROM:-0700
TZOFFSETTO:-0600
TZNAME:MDT
DTSTART:20240310T090000
END:DAYLIGHT
BEGIN:STANDARD
TZOFFSETFROM:-0600
TZOFFSETTO:-0700
TZNAME:MST
DTSTART:20241103T080000
END:STANDARD
BEGIN:DAYLIGHT
TZOFFSETFROM:-0700
TZOFFSETTO:-0600
TZNAME:MDT
DTSTART:20250309T090000
END:DAYLIGHT
BEGIN:STANDARD
TZOFFSETFROM:-0600
TZOFFSETTO:-0700
TZNAME:MST
DTSTART:20251102T080000
END:STANDARD
BEGIN:DAYLIGHT
TZOFFSETFROM:-0700
TZOFFSETTO:-0600
TZNAME:MDT
DTSTART:20260308T090000
END:DAYLIGHT
BEGIN:STANDARD
TZOFFSETFROM:-0600
TZOFFSETTO:-0700
TZNAME:MST
DTSTART:20261101T080000
END:STANDARD
END:VTIMEZONE
BEGIN:VEVENT
DTSTART;TZID=America/Edmonton:20251130T150000
DTEND;TZID=America/Edmonton:20251130T180000
DTSTAMP:20260422T011916
CREATED:20251103T213228Z
LAST-MODIFIED:20251130T211528Z
UID:10007592-1764514800-1764525600@www.saulteau.com
SUMMARY:🎭 BEAR GREASE – Live at the Saulteau First Nations Culture Centre!!!!
DESCRIPTION:🎭 BEAR GREASE – Live at the Saulteau First Nations Culture Centre!!!! \nThis high-energy Indigenous musical brings laughter\, storytelling\, and connection to our community! Join us for two special shows celebrating Indigenous talent\, mentorship\, and culture through music and performance. \n📅 November 29 & 30 \n📍 SFN Culture Centre \n🎤 Meet & Greet\, plus photos with the cast after the show! \n🎟️ Free ticket if you’ve attended any Culture Centre event in November. Otherwise\, $20 at the door (cash only). \n🍿 Concession\, snacks\, and refreshments available – cash only. For questions\, contact Kirsta – KLindstrom@saulteau.com \n 
URL:https://www.saulteau.com/event/%f0%9f%8e%ad-bear-grease-live-at-the-saulteau-first-nations-culture-centre/
LOCATION:Saulteau First Nations Cultural Centre\, 1706 Boucher Lake Rd.
CATEGORIES:Community,Cultural Centre,Health & Wellness,Health Centre,Linda Krystina Housing Society,New Beginnings House,Recreation,SFN Transportation,Youth Centre
ORGANIZER;CN="Kirsta Lindtsrom":MAILTO:klindstrom@saulteau.com
END:VEVENT
BEGIN:VEVENT
DTSTART;TZID=America/Edmonton:20251129T180000
DTEND;TZID=America/Edmonton:20251129T180000
DTSTAMP:20260422T011916
CREATED:20251103T213549Z
LAST-MODIFIED:20251105T153532Z
UID:10007591-1764439200-1764439200@www.saulteau.com
SUMMARY:🎭 BEAR GREASE – Live at the Saulteau First Nations Culture Centre!!!!
DESCRIPTION:🎭 BEAR GREASE – Live at the Saulteau First Nations Culture Centre!!!! \nThis high-energy Indigenous musical brings laughter\, storytelling\, and connection to our community! Join us for two special shows celebrating Indigenous talent\, mentorship\, and culture through music and performance. \n📅 November 29 & 30 \n📍 SFN Culture Centre \n🎤 Meet & Greet\, plus photos with the cast after the show! \n🎟️ Free ticket if you’ve attended any Culture Centre event in November. Otherwise\, $20 at the door (cash only). \n🍿 Concession\, snacks\, and refreshments available – cash only. For questions\, contact Kirsta – KLindstrom@saulteau.com \n 
URL:https://www.saulteau.com/event/%f0%9f%8e%ad-bear-grease-live-at-the-saulteau-first-nations-culture-centre-2/
LOCATION:Saulteau First Nations Cultural Centre\, 1706 Boucher Lake Rd.
CATEGORIES:Community,Cultural Centre,Health & Wellness,Health Centre,Linda Krystina Housing Society,New Beginnings House,Recreation,SFN Transportation,Youth Centre
ORGANIZER;CN="Kirsta Lindtsrom":MAILTO:klindstrom@saulteau.com
END:VEVENT
BEGIN:VEVENT
DTSTART;TZID=America/Edmonton:20251127T123000
DTEND;TZID=America/Edmonton:20251127T170000
DTSTAMP:20260422T011916
CREATED:20251106T213643Z
LAST-MODIFIED:20251113T164051Z
UID:10007939-1764246600-1764262800@www.saulteau.com
SUMMARY:SFN Transportation -12:40 PM – Elders Bingo @ Training Room
DESCRIPTION:Thursday\, November 27\n12:40 PM – Elders Bingo @ Training Room
URL:https://www.saulteau.com/event/sfn-transportation-830-am-dawson-creek-shopping-day/
LOCATION:Saulteau First Nations Band Office\, 1717 Boucher Lake Rd\, Moberly Lake\, BC\, V0C 1X0\, Canada
CATEGORIES:Community,SFN Transportation
ORGANIZER;CN="Cara Martin-Earl":MAILTO:cmartin-earl@saulteau.com
END:VEVENT
BEGIN:VEVENT
DTSTART;TZID=America/Edmonton:20251125T120000
DTEND;TZID=America/Edmonton:20251125T170000
DTSTAMP:20260422T011916
CREATED:20251106T213600Z
LAST-MODIFIED:20251106T213600Z
UID:10007938-1764072000-1764090000@www.saulteau.com
SUMMARY:SFN Transportation -11:40 AM – Soup & Bannock @ Elders Lounge
DESCRIPTION:Tuesday\, November 25\n11:40 AM – Soup & Bannock @ Elders Lounge
URL:https://www.saulteau.com/event/sfn-transportation-1140-am-soup-bannock-elders-lounge-2/
LOCATION:Saulteau First Nations Band Office\, 1717 Boucher Lake Rd\, Moberly Lake\, BC\, V0C 1X0\, Canada
CATEGORIES:Community,SFN Transportation
ORGANIZER;CN="Cara Martin-Earl":MAILTO:cmartin-earl@saulteau.com
END:VEVENT
BEGIN:VEVENT
DTSTART;TZID=America/Edmonton:20251118T120000
DTEND;TZID=America/Edmonton:20251118T170000
DTSTAMP:20260422T011916
CREATED:20251106T213412Z
LAST-MODIFIED:20251106T213412Z
UID:10007937-1763467200-1763485200@www.saulteau.com
SUMMARY:SFN Transportation -11:40 AM – Soup & Bannock @ Elders Lounge
DESCRIPTION:Tuesday\, November 18\n11:40 AM – Soup & Bannock @ Elders Lounge
URL:https://www.saulteau.com/event/sfn-transportation-1140-am-soup-bannock-elders-lounge/
LOCATION:Saulteau First Nations Band Office\, 1717 Boucher Lake Rd\, Moberly Lake\, BC\, V0C 1X0\, Canada
CATEGORIES:Community,SFN Transportation
ORGANIZER;CN="Cara Martin-Earl":MAILTO:cmartin-earl@saulteau.com
END:VEVENT
BEGIN:VEVENT
DTSTART;TZID=America/Edmonton:20251113T083000
DTEND;TZID=America/Edmonton:20251113T170000
DTSTAMP:20260422T011916
CREATED:20251106T213315Z
LAST-MODIFIED:20251106T213315Z
UID:10007936-1763022600-1763053200@www.saulteau.com
SUMMARY:SFN Transportation -12:40 PM – Elders Bingo @ Training Room
DESCRIPTION:Thursday\, November 13\n12:40 PM – Elders Bingo @ Training Room
URL:https://www.saulteau.com/event/sfn-transportation-1240-pm-elders-bingo-training-room/
LOCATION:Saulteau First Nations Band Office\, 1717 Boucher Lake Rd\, Moberly Lake\, BC\, V0C 1X0\, Canada
CATEGORIES:Community,SFN Transportation
ORGANIZER;CN="Cara Martin-Earl":MAILTO:cmartin-earl@saulteau.com
END:VEVENT
BEGIN:VEVENT
DTSTART;TZID=America/Edmonton:20251111T083000
DTEND;TZID=America/Edmonton:20251111T170000
DTSTAMP:20260422T011916
CREATED:20251106T213211Z
LAST-MODIFIED:20251106T213211Z
UID:10007935-1762849800-1762880400@www.saulteau.com
SUMMARY:❤️ Tuesday\, November 11 – Remembrance Day SFN Offices Closed
DESCRIPTION:Tuesday\, November 11 – Remembrance Day\nSFN Offices Closed
URL:https://www.saulteau.com/event/%e2%9d%a4%ef%b8%8f-tuesday-november-11-remembrance-day-sfn-offices-closed/
LOCATION:Saulteau First Nations Band Office\, 1717 Boucher Lake Rd\, Moberly Lake\, BC\, V0C 1X0\, Canada
CATEGORIES:Asset Management,Community,Cultural Centre,Cultural Learning,Elementary School,Employment & Training,Health & Wellness,Health Centre,Lands,Linda Krystina Housing Society,MLC School,New Beginnings House,Recreation,SFN Transportation,TREP,Youth Centre
END:VEVENT
BEGIN:VEVENT
DTSTART;TZID=America/Edmonton:20251111T080000
DTEND;TZID=America/Edmonton:20251111T170000
DTSTAMP:20260422T011916
CREATED:20251110T194633Z
LAST-MODIFIED:20251110T194633Z
UID:10007944-1762848000-1762880400@www.saulteau.com
SUMMARY:Saulteau First Nations Office Closure Notice  Tuesday\, November 11\, 2025
DESCRIPTION:  \nSaulteau First Nations Office Closure Notice\nTuesday\, November 11\, 2025 \nPlease note that Saulteau First Nations offices will be closed on Tuesday\, November 11\, 2025\, in observance of Remembrance Day. \nRegular office hours will resume on Wednesday\, November 12\, 2025.
URL:https://www.saulteau.com/event/saulteau-first-nations-office-closure-notice-tuesday-november-11-2025/
CATEGORIES:Asset Management,Community,Cultural Centre,Elementary School,Employment & Training,Health & Wellness,Health Centre,Lands,Linda Krystina Housing Society,MLC School,New Beginnings House,Recreation,SFN Transportation,TREP,Youth Centre
END:VEVENT
BEGIN:VEVENT
DTSTART;TZID=America/Edmonton:20251110T083000
DTEND;TZID=America/Edmonton:20251110T170000
DTSTAMP:20260422T011917
CREATED:20251106T210928Z
LAST-MODIFIED:20251106T213044Z
UID:10007932-1762763400-1762794000@www.saulteau.com
SUMMARY:SFN Transportation -8:30 AM – Breakfast @ Don’s Diner
DESCRIPTION:Monday\, November 10\n8:30 AM – Breakfast @ Don’s Diner
URL:https://www.saulteau.com/event/sfn-transportation-soup-bannock-elders-lounge/
LOCATION:Saulteau First Nations Band Office\, 1717 Boucher Lake Rd\, Moberly Lake\, BC\, V0C 1X0\, Canada
CATEGORIES:Community,SFN Transportation
ORGANIZER;CN="Cara Martin-Earl":MAILTO:cmartin-earl@saulteau.com
END:VEVENT
BEGIN:VEVENT
DTSTART;TZID=America/Edmonton:20250925T100000
DTEND;TZID=America/Edmonton:20250925T150000
DTSTAMP:20260422T011917
CREATED:20250917T152458Z
LAST-MODIFIED:20250917T153847Z
UID:10003365-1758794400-1758812400@www.saulteau.com
SUMMARY:🧡🌿SFN Health Fair – Everyone Welcome! 🌿🧡
DESCRIPTION:Health Fair – Everyone Welcome! \n\n\n\ntânsi!\n\n\n\nSaulteau First Nations and West Moberly First Nations invite you to join us for a Health Fair at the SFN Cultural Centre Gym.\n\n\n\n\n\n\n\n Connect with health and wellness vendors\n Explore resources to support your well-being\n Take part in healing and wellness sessions for the whole community\n\n\nThis is a chance to learn\, share\, and celebrate health together - hyi hyi \n\n\n SFN Cultural Centre – Gym\n Thursday\, September 25th\, 2025\n 10:00 AM – 3:00 PM\n\n\nEveryone is welcome – we look forward to seeing you there!\n\n\n#SaulteauFirstNations #WestMoberlyFirstNations #HealthFair #CommunityWellness
URL:https://www.saulteau.com/event/%f0%9f%a7%a1%f0%9f%8c%bfsfn-health-fair-everyone-welcome-%f0%9f%8c%bf%f0%9f%a7%a1/
LOCATION:Saulteau First Nations Cultural Centre\, 1706 Boucher Lake Rd.
CATEGORIES:Community,Cultural Centre,Health & Wellness,Health Centre,Linda Krystina Housing Society,New Beginnings House,Recreation,SFN Transportation,TREP,Youth Centre
ORGANIZER;CN="Kayla Macdonald":MAILTO:kmacdonald@saulteau.com
END:VEVENT
BEGIN:VEVENT
DTSTART;TZID=America/Edmonton:20250908T080000
DTEND;TZID=America/Edmonton:20250908T170000
DTSTAMP:20260422T011917
CREATED:20250908T154944Z
LAST-MODIFIED:20250908T154944Z
UID:10003344-1757318400-1757350800@www.saulteau.com
SUMMARY:Office Closure Today\, Monday\, Sept 8th\, 2025
DESCRIPTION:Office Closure \nMonday\, Sept 8th\, 2025 (Today) \nThe Saulteau First Nations offices will be closed today out of respect for the recent passing in our community. \nOffices will re-open on Tomorrow\, Tuesday\, Sept\,9th 2025. \nThis closure is at the request of the family\, and we join them in honoring and supporting them during this difficult time.
URL:https://www.saulteau.com/event/office-closure-today-monday-sept-8th-2025/
LOCATION:Saulteau First Nations Band Office\, 1717 Boucher Lake Rd\, Moberly Lake\, BC\, V0C 1X0\, Canada
CATEGORIES:Asset Management,Community,Cultural Centre,Cultural Learning,Employment & Training,Health & Wellness,Health Centre,Lands,Linda Krystina Housing Society,MLC School,New Beginnings House,Recreation,SFN Transportation,TREP,Youth Centre
ATTACH;FMTTYPE=image/jpeg:https://www.saulteau.com/wp-content/uploads/2025/09/Pic.jpg
END:VEVENT
BEGIN:VEVENT
DTSTART;TZID=America/Edmonton:20250731T123000
DTEND;TZID=America/Edmonton:20250731T150000
DTSTAMP:20260422T011917
CREATED:20250722T085611Z
LAST-MODIFIED:20250722T085611Z
UID:10002163-1753965000-1753974000@www.saulteau.com
SUMMARY:SFN Transportation -🏞️ Summer Camp Kids – Spray Park
DESCRIPTION:July 31🕐 12:30 PM – 3:00 PM🏞️ Summer Camp Kids  to Spray Park\nContact SFN Transporation - Cara @ 236-364-2016 cmartin-earl@saulteau.com\nto arrange for pick up.\n*Please note that all times posted are\ndeparture and return times. It is the\nresponsibility of the attendees to bring\nitems required for each activity including\ncosts. This is a transportation schedule\nonly.
URL:https://www.saulteau.com/event/sfn-transportation-%f0%9f%8f%9e%ef%b8%8f-summer-camp-kids-spray-park-2/
CATEGORIES:Community,Health & Wellness,Recreation,SFN Transportation
ORGANIZER;CN="Cara Martin-Earl":MAILTO:cmartin-earl@saulteau.com
END:VEVENT
BEGIN:VEVENT
DTSTART;TZID=America/Edmonton:20250730T083000
DTEND;TZID=America/Edmonton:20250730T153000
DTSTAMP:20260422T011917
CREATED:20250722T085454Z
LAST-MODIFIED:20250722T085454Z
UID:10002162-1753864200-1753889400@www.saulteau.com
SUMMARY:SFN Transportation -Dawson Creek Shopping Day
DESCRIPTION:July 30 Dawson Creek Shopping Day 🕐 8:30 AM - 3:30P M\nContact SFN Transporation - Cara @ 236-364-2016 cmartin-earl@saulteau.com\nto arrange for pick up.\n*Please note that all times posted are\ndeparture and return times. It is the\nresponsibility of the attendees to bring\nitems required for each activity including\ncosts. This is a transportation schedule\nonly.
URL:https://www.saulteau.com/event/sfn-transportation-dawson-creek-shopping-day/
CATEGORIES:Community,Health & Wellness,Recreation,SFN Transportation
ORGANIZER;CN="Cara Martin-Earl":MAILTO:cmartin-earl@saulteau.com
END:VEVENT
BEGIN:VEVENT
DTSTART;TZID=America/Edmonton:20250729T113000
DTEND;TZID=America/Edmonton:20250729T113000
DTSTAMP:20260422T011917
CREATED:20250722T085240Z
LAST-MODIFIED:20250722T085240Z
UID:10002160-1753788600-1753788600@www.saulteau.com
SUMMARY:SFN Transportation -🧘 Yoga – Northern Wellness Centre
DESCRIPTION:July 29 🕐 11:30 AM🧘 Yoga – Northern Wellness Centre\nContact SFN Transporation - Cara @ 236-364-2016 cmartin-earl@saulteau.com\nto arrange for pick up.\n*Please note that all times posted are\ndeparture and return times. It is the\nresponsibility of the attendees to bring\nitems required for each activity including\ncosts. This is a transportation schedule\nonly.
URL:https://www.saulteau.com/event/sfn-transportation-%f0%9f%a7%98-yoga-northern-wellness-centre-2/
CATEGORIES:Community,Health & Wellness,Recreation,SFN Transportation
ORGANIZER;CN="Cara Martin-Earl":MAILTO:cmartin-earl@saulteau.com
END:VEVENT
BEGIN:VEVENT
DTSTART;TZID=America/Edmonton:20250724T123000
DTEND;TZID=America/Edmonton:20250724T150000
DTSTAMP:20260422T011917
CREATED:20250722T085122Z
LAST-MODIFIED:20250722T085122Z
UID:10002158-1753360200-1753369200@www.saulteau.com
SUMMARY:SFN Transportation -🏞️ Summer Camp Kids – Spray Park
DESCRIPTION:July 24🕐 12:30 PM – 3:00 PM🏞️ Summer Camp Kids  to Spray Park\nContact SFN Transporation - Cara @ 236-364-2016 cmartin-earl@saulteau.com\nto arrange for pick up.\n*Please note that all times posted are\ndeparture and return times. It is the\nresponsibility of the attendees to bring\nitems required for each activity including\ncosts. This is a transportation schedule\nonly.
URL:https://www.saulteau.com/event/sfn-transportation-%f0%9f%8f%9e%ef%b8%8f-summer-camp-kids-spray-park/
CATEGORIES:Community,Health & Wellness,Recreation,SFN Transportation
ORGANIZER;CN="Cara Martin-Earl":MAILTO:cmartin-earl@saulteau.com
END:VEVENT
BEGIN:VEVENT
DTSTART;TZID=America/Edmonton:20250723T123000
DTEND;TZID=America/Edmonton:20250723T150000
DTSTAMP:20260422T011917
CREATED:20250722T083842Z
LAST-MODIFIED:20250722T084333Z
UID:10002156-1753273800-1753282800@www.saulteau.com
SUMMARY:SFN Transportation -🏞️ Family Trip – Spray Park
DESCRIPTION:July 23🕐 12:30 PM – 3:00 PM🏞️ Family Trip – Spray Park\nContact SFN Transporation - Cara @ 236-364-2016 cmartin-earl@saulteau.com\nto arrange for pick up.\n*Please note that all times posted are\ndeparture and return times. It is the\nresponsibility of the attendees to bring\nitems required for each activity including\ncosts. This is a transportation schedule\nonly.
URL:https://www.saulteau.com/event/sfn-transportation-%f0%9f%8f%9e%ef%b8%8f-family-trip-spray-park/
CATEGORIES:Community,Health & Wellness,Recreation,SFN Transportation
ORGANIZER;CN="Cara Martin-Earl":MAILTO:cmartin-earl@saulteau.com
END:VEVENT
BEGIN:VEVENT
DTSTART;TZID=America/Edmonton:20250722T113000
DTEND;TZID=America/Edmonton:20250722T113000
DTSTAMP:20260422T011917
CREATED:20250722T083326Z
LAST-MODIFIED:20250722T084527Z
UID:10002154-1753183800-1753183800@www.saulteau.com
SUMMARY:SFN Transportation -🧘 Yoga – Northern Wellness Centre
DESCRIPTION:July 22 🕐 11:30 AM🧘 Yoga – Northern Wellness Centre\nContact SFN Transporation - Cara @ 236-364-2016 cmartin-earl@saulteau.com\nto arrange for pick up.\n*Please note that all times posted are\ndeparture and return times. It is the\nresponsibility of the attendees to bring\nitems required for each activity including\ncosts. This is a transportation schedule\nonly.
URL:https://www.saulteau.com/event/sfn-transportation-%f0%9f%a7%98-yoga-northern-wellness-centre/
CATEGORIES:Community,Health & Wellness,Recreation,SFN Transportation
ORGANIZER;CN="Cara Martin-Earl":MAILTO:cmartin-earl@saulteau.com
END:VEVENT
BEGIN:VEVENT
DTSTART;TZID=America/Edmonton:20250721T083000
DTEND;TZID=America/Edmonton:20250721T083000
DTSTAMP:20260422T011917
CREATED:20250722T083554Z
LAST-MODIFIED:20250722T084736Z
UID:10002155-1753086600-1753086600@www.saulteau.com
SUMMARY:SFN Transportation -🍳 Breakfast at Don’s Diner
DESCRIPTION:July 21🕐 8:30 AM🍳 Breakfast at Don’s Diner\nContact SFN Transporation - Cara @ 236-364-2016 cmartin-earl@saulteau.com\nto arrange for pick up.\n*Please note that all times posted are\ndeparture and return times. It is the\nresponsibility of the attendees to bring\nitems required for each activity including\ncosts. This is a transportation schedule\nonly.
URL:https://www.saulteau.com/event/sfn-transportation-%f0%9f%8d%b3-breakfast-at-dons-diner/
CATEGORIES:Community,Health & Wellness,Recreation,SFN Transportation
ORGANIZER;CN="Cara Martin-Earl":MAILTO:cmartin-earl@saulteau.com
END:VEVENT
END:VCALENDAR