BEGIN:VCALENDAR
VERSION:2.0
PRODID:-//Saulteau First Nations - ECPv6.15.20//NONSGML v1.0//EN
CALSCALE:GREGORIAN
METHOD:PUBLISH
X-ORIGINAL-URL:https://www.saulteau.com
X-WR-CALDESC:Events for Saulteau First Nations
REFRESH-INTERVAL;VALUE=DURATION:PT1H
X-Robots-Tag:noindex
X-PUBLISHED-TTL:PT1H
BEGIN:VTIMEZONE
TZID:America/Edmonton
BEGIN:DAYLIGHT
TZOFFSETFROM:-0700
TZOFFSETTO:-0600
TZNAME:MDT
DTSTART:20240310T090000
END:DAYLIGHT
BEGIN:STANDARD
TZOFFSETFROM:-0600
TZOFFSETTO:-0700
TZNAME:MST
DTSTART:20241103T080000
END:STANDARD
BEGIN:DAYLIGHT
TZOFFSETFROM:-0700
TZOFFSETTO:-0600
TZNAME:MDT
DTSTART:20250309T090000
END:DAYLIGHT
BEGIN:STANDARD
TZOFFSETFROM:-0600
TZOFFSETTO:-0700
TZNAME:MST
DTSTART:20251102T080000
END:STANDARD
BEGIN:DAYLIGHT
TZOFFSETFROM:-0700
TZOFFSETTO:-0600
TZNAME:MDT
DTSTART:20260308T090000
END:DAYLIGHT
BEGIN:STANDARD
TZOFFSETFROM:-0600
TZOFFSETTO:-0700
TZNAME:MST
DTSTART:20261101T080000
END:STANDARD
END:VTIMEZONE
BEGIN:VEVENT
DTSTART;TZID=America/Edmonton:20250730T083000
DTEND;TZID=America/Edmonton:20250730T153000
DTSTAMP:20260422T030855
CREATED:20250722T085454Z
LAST-MODIFIED:20250722T085454Z
UID:10002162-1753864200-1753889400@www.saulteau.com
SUMMARY:SFN Transportation -Dawson Creek Shopping Day
DESCRIPTION:July 30 Dawson Creek Shopping Day 🕐 8:30 AM - 3:30P M\nContact SFN Transporation - Cara @ 236-364-2016 cmartin-earl@saulteau.com\nto arrange for pick up.\n*Please note that all times posted are\ndeparture and return times. It is the\nresponsibility of the attendees to bring\nitems required for each activity including\ncosts. This is a transportation schedule\nonly.
URL:https://www.saulteau.com/event/sfn-transportation-dawson-creek-shopping-day/
CATEGORIES:Community,Health & Wellness,Recreation,SFN Transportation
ORGANIZER;CN="Cara Martin-Earl":MAILTO:cmartin-earl@saulteau.com
END:VEVENT
BEGIN:VEVENT
DTSTART;TZID=America/Edmonton:20250729T113000
DTEND;TZID=America/Edmonton:20250729T113000
DTSTAMP:20260422T030855
CREATED:20250722T085240Z
LAST-MODIFIED:20250722T085240Z
UID:10002160-1753788600-1753788600@www.saulteau.com
SUMMARY:SFN Transportation -🧘 Yoga – Northern Wellness Centre
DESCRIPTION:July 29 🕐 11:30 AM🧘 Yoga – Northern Wellness Centre\nContact SFN Transporation - Cara @ 236-364-2016 cmartin-earl@saulteau.com\nto arrange for pick up.\n*Please note that all times posted are\ndeparture and return times. It is the\nresponsibility of the attendees to bring\nitems required for each activity including\ncosts. This is a transportation schedule\nonly.
URL:https://www.saulteau.com/event/sfn-transportation-%f0%9f%a7%98-yoga-northern-wellness-centre-2/
CATEGORIES:Community,Health & Wellness,Recreation,SFN Transportation
ORGANIZER;CN="Cara Martin-Earl":MAILTO:cmartin-earl@saulteau.com
END:VEVENT
BEGIN:VEVENT
DTSTART;TZID=America/Edmonton:20250724T123000
DTEND;TZID=America/Edmonton:20250724T150000
DTSTAMP:20260422T030855
CREATED:20250722T085122Z
LAST-MODIFIED:20250722T085122Z
UID:10002158-1753360200-1753369200@www.saulteau.com
SUMMARY:SFN Transportation -🏞️ Summer Camp Kids – Spray Park
DESCRIPTION:July 24🕐 12:30 PM – 3:00 PM🏞️ Summer Camp Kids  to Spray Park\nContact SFN Transporation - Cara @ 236-364-2016 cmartin-earl@saulteau.com\nto arrange for pick up.\n*Please note that all times posted are\ndeparture and return times. It is the\nresponsibility of the attendees to bring\nitems required for each activity including\ncosts. This is a transportation schedule\nonly.
URL:https://www.saulteau.com/event/sfn-transportation-%f0%9f%8f%9e%ef%b8%8f-summer-camp-kids-spray-park/
CATEGORIES:Community,Health & Wellness,Recreation,SFN Transportation
ORGANIZER;CN="Cara Martin-Earl":MAILTO:cmartin-earl@saulteau.com
END:VEVENT
BEGIN:VEVENT
DTSTART;TZID=America/Edmonton:20250723T123000
DTEND;TZID=America/Edmonton:20250723T150000
DTSTAMP:20260422T030855
CREATED:20250722T083842Z
LAST-MODIFIED:20250722T084333Z
UID:10002156-1753273800-1753282800@www.saulteau.com
SUMMARY:SFN Transportation -🏞️ Family Trip – Spray Park
DESCRIPTION:July 23🕐 12:30 PM – 3:00 PM🏞️ Family Trip – Spray Park\nContact SFN Transporation - Cara @ 236-364-2016 cmartin-earl@saulteau.com\nto arrange for pick up.\n*Please note that all times posted are\ndeparture and return times. It is the\nresponsibility of the attendees to bring\nitems required for each activity including\ncosts. This is a transportation schedule\nonly.
URL:https://www.saulteau.com/event/sfn-transportation-%f0%9f%8f%9e%ef%b8%8f-family-trip-spray-park/
CATEGORIES:Community,Health & Wellness,Recreation,SFN Transportation
ORGANIZER;CN="Cara Martin-Earl":MAILTO:cmartin-earl@saulteau.com
END:VEVENT
BEGIN:VEVENT
DTSTART;TZID=America/Edmonton:20250722T113000
DTEND;TZID=America/Edmonton:20250722T113000
DTSTAMP:20260422T030855
CREATED:20250722T083326Z
LAST-MODIFIED:20250722T084527Z
UID:10002154-1753183800-1753183800@www.saulteau.com
SUMMARY:SFN Transportation -🧘 Yoga – Northern Wellness Centre
DESCRIPTION:July 22 🕐 11:30 AM🧘 Yoga – Northern Wellness Centre\nContact SFN Transporation - Cara @ 236-364-2016 cmartin-earl@saulteau.com\nto arrange for pick up.\n*Please note that all times posted are\ndeparture and return times. It is the\nresponsibility of the attendees to bring\nitems required for each activity including\ncosts. This is a transportation schedule\nonly.
URL:https://www.saulteau.com/event/sfn-transportation-%f0%9f%a7%98-yoga-northern-wellness-centre/
CATEGORIES:Community,Health & Wellness,Recreation,SFN Transportation
ORGANIZER;CN="Cara Martin-Earl":MAILTO:cmartin-earl@saulteau.com
END:VEVENT
BEGIN:VEVENT
DTSTART;TZID=America/Edmonton:20250721T083000
DTEND;TZID=America/Edmonton:20250721T083000
DTSTAMP:20260422T030855
CREATED:20250722T083554Z
LAST-MODIFIED:20250722T084736Z
UID:10002155-1753086600-1753086600@www.saulteau.com
SUMMARY:SFN Transportation -🍳 Breakfast at Don’s Diner
DESCRIPTION:July 21🕐 8:30 AM🍳 Breakfast at Don’s Diner\nContact SFN Transporation - Cara @ 236-364-2016 cmartin-earl@saulteau.com\nto arrange for pick up.\n*Please note that all times posted are\ndeparture and return times. It is the\nresponsibility of the attendees to bring\nitems required for each activity including\ncosts. This is a transportation schedule\nonly.
URL:https://www.saulteau.com/event/sfn-transportation-%f0%9f%8d%b3-breakfast-at-dons-diner/
CATEGORIES:Community,Health & Wellness,Recreation,SFN Transportation
ORGANIZER;CN="Cara Martin-Earl":MAILTO:cmartin-earl@saulteau.com
END:VEVENT
END:VCALENDAR