BEGIN:VCALENDAR
VERSION:2.0
PRODID:-//Saulteau First Nations - ECPv6.15.20//NONSGML v1.0//EN
CALSCALE:GREGORIAN
METHOD:PUBLISH
X-WR-CALNAME:Saulteau First Nations
X-ORIGINAL-URL:https://www.saulteau.com
X-WR-CALDESC:Events for Saulteau First Nations
REFRESH-INTERVAL;VALUE=DURATION:PT1H
X-Robots-Tag:noindex
X-PUBLISHED-TTL:PT1H
BEGIN:VTIMEZONE
TZID:America/Edmonton
BEGIN:DAYLIGHT
TZOFFSETFROM:-0700
TZOFFSETTO:-0600
TZNAME:MDT
DTSTART:20240310T090000
END:DAYLIGHT
BEGIN:STANDARD
TZOFFSETFROM:-0600
TZOFFSETTO:-0700
TZNAME:MST
DTSTART:20241103T080000
END:STANDARD
BEGIN:DAYLIGHT
TZOFFSETFROM:-0700
TZOFFSETTO:-0600
TZNAME:MDT
DTSTART:20250309T090000
END:DAYLIGHT
BEGIN:STANDARD
TZOFFSETFROM:-0600
TZOFFSETTO:-0700
TZNAME:MST
DTSTART:20251102T080000
END:STANDARD
BEGIN:DAYLIGHT
TZOFFSETFROM:-0700
TZOFFSETTO:-0600
TZNAME:MDT
DTSTART:20260308T090000
END:DAYLIGHT
BEGIN:STANDARD
TZOFFSETFROM:-0600
TZOFFSETTO:-0700
TZNAME:MST
DTSTART:20261101T080000
END:STANDARD
END:VTIMEZONE
BEGIN:VEVENT
DTSTART;TZID=America/Edmonton:20251104T173000
DTEND;TZID=America/Edmonton:20251104T190000
DTSTAMP:20260421T233037
CREATED:20251104T230544Z
LAST-MODIFIED:20251104T230605Z
UID:10007603-1762277400-1762282800@www.saulteau.com
SUMMARY:📣 FINAL MEETING TONIGHT!– Wastewater Project Community Update
DESCRIPTION:  \n\nFINAL MEETING TONIGHT!– Wastewater Project Community Update\n\n\ntânisi SFN community \n\n\nJoin Chandos Construction and Saulteau First Nations for the final Wastewater Project community update meeting for 2025.\n\n\n Tonight – November 4th\n 5:30 PM – 7:00 PM\n SFN Cultural Centre – Gym\n Dinner provided\n\n\nYour participation and feedback continue to guide this important project for our community.\n\n\nWe look forward to seeing you there.
URL:https://www.saulteau.com/event/%f0%9f%93%a3-final-meeting-tonight-wastewater-project-community-update/
LOCATION:Saulteau First Nations Cultural Centre\, 1706 Boucher Lake Rd.
CATEGORIES:Asset Management,Community,Cultural Centre
ORGANIZER;CN="Falon Gauthier":MAILTO:fgauthier@saulteau.com
END:VEVENT
BEGIN:VEVENT
DTSTART;TZID=America/Edmonton:20251021T173000
DTEND;TZID=America/Edmonton:20251021T190000
DTSTAMP:20260421T233037
CREATED:20250521T171031Z
LAST-MODIFIED:20250521T171031Z
UID:10002078-1761067800-1761073200@www.saulteau.com
SUMMARY:Wastewater Project Community Update
DESCRIPTION:
URL:https://www.saulteau.com/event/wastewater-project-community-update/2025-10-21/
LOCATION:SFN Cultural Centre Training room
CATEGORIES:Community,Cultural Centre
ORGANIZER;CN="Falon Gauthier":MAILTO:fgauthier@saulteau.com
END:VEVENT
BEGIN:VEVENT
DTSTART;TZID=America/Edmonton:20251002T080000
DTEND;TZID=America/Edmonton:20251004T170000
DTSTAMP:20260421T233037
CREATED:20250925T070942Z
LAST-MODIFIED:20251003T234123Z
UID:10005981-1759392000-1759597200@www.saulteau.com
SUMMARY:🚧🌿🪶 Lakeview Road Paving & Temporary Road Closures 🪶🌿🚧
DESCRIPTION: Community Notice Update: Road Paving & Temporary Closures \n\n\n\n\n\nImportant Update for SFN Lakeview Residents:\n\n\n\n\n\n Updated Information: \n\nUpdated Schedule (Oct 2 – Oct 4):\n\n\n• Start Date: October 2nd\, 2025 (weather permitting – no rain)\n\n\n• One lane per section will now remain open during paving.\n\n\n• If the pavement in front of your driveway has been freshly laid\n\n\nand hasn’t fully cured\, you will not have access until it is ready.\n\n\n• Recent rainy weather has caused delays\, as paving in wet conditions isn’t ideal. Let’s pray this rain holds up so the teams can get the job done!\n\n\n\nWe are excited to share that paving in Lakeview is progressing ahead of schedule. With the excellent work in Lakeview 2 this morning\, we now anticipate completing the entire subdivision by Saturday\, October 4th. \n\nFalon Gauthier \nAsset & Capital Projects Administrator \nfgauthier@saulteau.com \nww.saulteau.com \nT.250-788-7377 \n\nNew Paving Route:\nPlease see the attached updated map for the paving route with the dates associated. \nTraffic Management: \n\nThe current traffic plan remains in effect.\nFollow all signage and directions from traffic personnel.\nDriveway access may be limited while pavement is curing.\n\nThis is a major milestone\, and we appreciate your patience as we complete this work. \n\n\n\n\n\n\nUpdated Schedule (Oct 2 – Oct 4):\n\n\n\n\n\n Access Reminder: Up to 11 hours of no access daily (driveways included) 7am–6pm.\n\n\n\n\n\n We appreciate your continued patience and understanding as we move closer to completing this project for everyone’s benefit.\n\n\n\n\n\nQuestions or Concerns? 250-613-8006 sreynolds@saulteau.com\n\n\nShane ReynoldsManager of Asset & Capital Projects\n\n\nkinanâskomitinân \n\n\n\n\n\n 
URL:https://www.saulteau.com/event/%f0%9f%9a%a7%f0%9f%8c%bf%f0%9f%aa%b6-lakeview-road-paving-temporary-closures-%f0%9f%aa%b6%f0%9f%8c%bf%f0%9f%9a%a7/
CATEGORIES:Asset Management,Community
ORGANIZER;CN="Falon Gauthier":MAILTO:fgauthier@saulteau.com
END:VEVENT
BEGIN:VEVENT
DTSTART;TZID=America/Edmonton:20250916T173000
DTEND;TZID=America/Edmonton:20250916T190000
DTSTAMP:20260421T233037
CREATED:20250521T171031Z
LAST-MODIFIED:20250521T171031Z
UID:10002077-1758043800-1758049200@www.saulteau.com
SUMMARY:Wastewater Project Community Update
DESCRIPTION:
URL:https://www.saulteau.com/event/wastewater-project-community-update/2025-09-16/
LOCATION:SFN Cultural Centre Training room
CATEGORIES:Community,Cultural Centre
ORGANIZER;CN="Falon Gauthier":MAILTO:fgauthier@saulteau.com
END:VEVENT
BEGIN:VEVENT
DTSTART;TZID=America/Edmonton:20250821T170000
DTEND;TZID=America/Edmonton:20250821T183000
DTSTAMP:20260421T233037
CREATED:20250821T214406Z
LAST-MODIFIED:20250821T214406Z
UID:10002949-1755795600-1755801000@www.saulteau.com
SUMMARY:Knowledge Share - Pathway to Individual Home Ownership
DESCRIPTION:Please join us for this VIRTUAL knowledge sharing event with Falon Gauthier - zoom links were emailed to membership on August 20/2025!
URL:https://www.saulteau.com/event/knowledge-share-pathway-to-individual-home-ownership/
LOCATION:Virtual (Zoom)
CATEGORIES:Asset Management
ORGANIZER;CN="Falon Gauthier":MAILTO:fgauthier@saulteau.com
END:VEVENT
BEGIN:VEVENT
DTSTART;TZID=America/Edmonton:20250819T173000
DTEND;TZID=America/Edmonton:20250819T190000
DTSTAMP:20260421T233037
CREATED:20250521T171031Z
LAST-MODIFIED:20250521T171031Z
UID:10002076-1755624600-1755630000@www.saulteau.com
SUMMARY:Wastewater Project Community Update
DESCRIPTION:
URL:https://www.saulteau.com/event/wastewater-project-community-update/2025-08-19/
LOCATION:SFN Cultural Centre Training room
CATEGORIES:Community,Cultural Centre
ORGANIZER;CN="Falon Gauthier":MAILTO:fgauthier@saulteau.com
END:VEVENT
BEGIN:VEVENT
DTSTART;TZID=America/Edmonton:20250722T173000
DTEND;TZID=America/Edmonton:20250722T190000
DTSTAMP:20260421T233037
CREATED:20250521T171031Z
LAST-MODIFIED:20250521T171031Z
UID:10002075-1753205400-1753210800@www.saulteau.com
SUMMARY:Wastewater Project Community Update
DESCRIPTION:
URL:https://www.saulteau.com/event/wastewater-project-community-update/2025-07-22/
LOCATION:SFN Cultural Centre Training room
CATEGORIES:Community,Cultural Centre
ORGANIZER;CN="Falon Gauthier":MAILTO:fgauthier@saulteau.com
END:VEVENT
BEGIN:VEVENT
DTSTART;TZID=America/Edmonton:20250624T173000
DTEND;TZID=America/Edmonton:20250624T190000
DTSTAMP:20260421T233037
CREATED:20250521T171031Z
LAST-MODIFIED:20250521T171031Z
UID:10002074-1750786200-1750791600@www.saulteau.com
SUMMARY:Wastewater Project Community Update
DESCRIPTION:
URL:https://www.saulteau.com/event/wastewater-project-community-update/2025-06-24/
LOCATION:SFN Cultural Centre Training room
CATEGORIES:Community,Cultural Centre
ORGANIZER;CN="Falon Gauthier":MAILTO:fgauthier@saulteau.com
END:VEVENT
BEGIN:VEVENT
DTSTART;TZID=America/Edmonton:20250526T173000
DTEND;TZID=America/Edmonton:20250526T190000
DTSTAMP:20260421T233037
CREATED:20250521T171031Z
LAST-MODIFIED:20250521T171031Z
UID:10002073-1748280600-1748286000@www.saulteau.com
SUMMARY:Wastewater Project Community Update
DESCRIPTION:
URL:https://www.saulteau.com/event/wastewater-project-community-update/2025-05-26/
LOCATION:SFN Cultural Centre Training room
CATEGORIES:Community,Cultural Centre
ORGANIZER;CN="Falon Gauthier":MAILTO:fgauthier@saulteau.com
END:VEVENT
END:VCALENDAR