BEGIN:VCALENDAR
VERSION:2.0
PRODID:-//Saulteau First Nations - ECPv6.15.20//NONSGML v1.0//EN
CALSCALE:GREGORIAN
METHOD:PUBLISH
X-WR-CALNAME:Saulteau First Nations
X-ORIGINAL-URL:https://www.saulteau.com
X-WR-CALDESC:Events for Saulteau First Nations
REFRESH-INTERVAL;VALUE=DURATION:PT1H
X-Robots-Tag:noindex
X-PUBLISHED-TTL:PT1H
BEGIN:VTIMEZONE
TZID:America/Edmonton
BEGIN:DAYLIGHT
TZOFFSETFROM:-0700
TZOFFSETTO:-0600
TZNAME:MDT
DTSTART:20230312T090000
END:DAYLIGHT
BEGIN:STANDARD
TZOFFSETFROM:-0600
TZOFFSETTO:-0700
TZNAME:MST
DTSTART:20231105T080000
END:STANDARD
BEGIN:DAYLIGHT
TZOFFSETFROM:-0700
TZOFFSETTO:-0600
TZNAME:MDT
DTSTART:20240310T090000
END:DAYLIGHT
BEGIN:STANDARD
TZOFFSETFROM:-0600
TZOFFSETTO:-0700
TZNAME:MST
DTSTART:20241103T080000
END:STANDARD
BEGIN:DAYLIGHT
TZOFFSETFROM:-0700
TZOFFSETTO:-0600
TZNAME:MDT
DTSTART:20250309T090000
END:DAYLIGHT
BEGIN:STANDARD
TZOFFSETFROM:-0600
TZOFFSETTO:-0700
TZNAME:MST
DTSTART:20251102T080000
END:STANDARD
BEGIN:DAYLIGHT
TZOFFSETFROM:-0700
TZOFFSETTO:-0600
TZNAME:MDT
DTSTART:20260308T090000
END:DAYLIGHT
BEGIN:STANDARD
TZOFFSETFROM:-0600
TZOFFSETTO:-0700
TZNAME:MST
DTSTART:20261101T080000
END:STANDARD
END:VTIMEZONE
BEGIN:VEVENT
DTSTART;TZID=America/Edmonton:20251119T170000
DTEND;TZID=America/Edmonton:20251119T190000
DTSTAMP:20260423T054112
CREATED:20251119T164441Z
LAST-MODIFIED:20251119T165549Z
UID:10007951-1763571600-1763578800@www.saulteau.com
SUMMARY:Birch Grove Program - Enbridge Open House!
DESCRIPTION:Birch Grove Program - Enbridge Open House!\n\n\n\n\n\nBirch Grove Program  Open House at the Saulteau First Nations Band Hall Gymnasium!! !\n\n\n\n\n\n November 19th 5–7 p.m. Saulteau First Nations Cultural Centre\, Moberly Lake\, BC\n\n\nCome learn about the Birch Grove Program\, meet the team\, and share your thoughts.\n\n\n Snacks and refreshments provided!\n\n\n\n\n\nSee you there! 
URL:https://www.saulteau.com/event/birch-grove-program-enbridge-open-house/
LOCATION:SFN Band Hall Gym
CATEGORIES:Community,Employment & Training,Lands,TREP
ORGANIZER;CN="Fernie Garbitt":MAILTO:fgarbitt@saulteau.com
END:VEVENT
BEGIN:VEVENT
DTSTART;TZID=America/Edmonton:20250312T080000
DTEND;TZID=America/Edmonton:20250312T170000
DTSTAMP:20260423T054112
CREATED:20250312T212418Z
LAST-MODIFIED:20250312T212442Z
UID:10001950-1741766400-1741798800@www.saulteau.com
SUMMARY:TREP Community Meeting
DESCRIPTION:Saulteau First Nations is inviting you to a scheduled Zoom meeting. \nTopic: TREP Community Engagement Meeting\nTime: Apr 23\, 2025 05:00 PM Arizona\nJoin Zoom Meeting\nhttps://us02web.zoom.us/j/89693047600?pwd=AgoDgZETCjgxTRChTwruztSU7rVoET.1 \nMeeting ID: 896 9304 7600\nPasscode: SFNTREP25 \n--- \nOne tap mobile\n+14388097799\,\,89693047600#\,\,\,\,*046737054# Canada\n+15873281099\,\,89693047600#\,\,\,\,*046737054# Canada \n--- \nDial by your location\n• +1 438 809 7799 Canada\n• +1 587 328 1099 Canada\n• +1 647 374 4685 Canada\n• +1 647 558 0588 Canada\n• +1 778 907 2071 Canada \nMeeting ID: 896 9304 7600\nPasscode: 046737054 \nFind your local number: https://us02web.zoom.us/u/ktEGiarqQ \n 
URL:https://www.saulteau.com/event/trep-community-meeting/
LOCATION:SFN Cultural Centre
CATEGORIES:Community
ORGANIZER;CN="Fernie Garbitt":MAILTO:fgarbitt@saulteau.com
END:VEVENT
BEGIN:VEVENT
DTSTART;TZID=America/Edmonton:20250224T160000
DTEND;TZID=America/Edmonton:20250224T190000
DTSTAMP:20260423T054112
CREATED:20250211T155148Z
LAST-MODIFIED:20250211T155148Z
UID:10001848-1740412800-1740423600@www.saulteau.com
SUMMARY:Community Meeting: FireLight Group Presentation
DESCRIPTION:SFN140_CommunityMeeting_Poster_10FEB2025
URL:https://www.saulteau.com/event/community-meeting-firelight-group-presentation/
LOCATION:SFN Cultural Centre Training room
CATEGORIES:Community
ORGANIZER;CN="Fernie Garbitt":MAILTO:fgarbitt@saulteau.com
END:VEVENT
BEGIN:VEVENT
DTSTART;TZID=America/Edmonton:20241105T160000
DTEND;TZID=America/Edmonton:20241105T183000
DTSTAMP:20260423T054112
CREATED:20241022T201452Z
LAST-MODIFIED:20241028T161841Z
UID:10000707-1730822400-1730831400@www.saulteau.com
SUMMARY:Arc Resources Meet & Greet
DESCRIPTION:
URL:https://www.saulteau.com/event/arc-resources-meet-greet/
LOCATION:SFN Band Hall Gym
CATEGORIES:Community
ORGANIZER;CN="Fernie Garbitt":MAILTO:fgarbitt@saulteau.com
END:VEVENT
END:VCALENDAR